BEGIN:VCALENDAR
VERSION:2.0
PRODID:-//Lisa&#039;s Natural Path, Herb Shop &amp; Wellness Center - ECPv6.15.20//NONSGML v1.0//EN
CALSCALE:GREGORIAN
METHOD:PUBLISH
X-WR-CALNAME:Lisa&#039;s Natural Path, Herb Shop &amp; Wellness Center
X-ORIGINAL-URL:https://lisasnaturalpath.com
X-WR-CALDESC:Events for Lisa&#039;s Natural Path, Herb Shop &amp; Wellness Center
REFRESH-INTERVAL;VALUE=DURATION:PT1H
X-Robots-Tag:noindex
X-PUBLISHED-TTL:PT1H
BEGIN:VTIMEZONE
TZID:UTC
BEGIN:STANDARD
TZOFFSETFROM:+0000
TZOFFSETTO:+0000
TZNAME:UTC
DTSTART:20170101T000000
END:STANDARD
END:VTIMEZONE
BEGIN:VTIMEZONE
TZID:America/New_York
BEGIN:DAYLIGHT
TZOFFSETFROM:-0500
TZOFFSETTO:-0400
TZNAME:EDT
DTSTART:20180311T070000
END:DAYLIGHT
BEGIN:STANDARD
TZOFFSETFROM:-0400
TZOFFSETTO:-0500
TZNAME:EST
DTSTART:20181104T060000
END:STANDARD
BEGIN:DAYLIGHT
TZOFFSETFROM:-0500
TZOFFSETTO:-0400
TZNAME:EDT
DTSTART:20190310T070000
END:DAYLIGHT
BEGIN:STANDARD
TZOFFSETFROM:-0400
TZOFFSETTO:-0500
TZNAME:EST
DTSTART:20191103T060000
END:STANDARD
BEGIN:DAYLIGHT
TZOFFSETFROM:-0500
TZOFFSETTO:-0400
TZNAME:EDT
DTSTART:20200308T070000
END:DAYLIGHT
BEGIN:STANDARD
TZOFFSETFROM:-0400
TZOFFSETTO:-0500
TZNAME:EST
DTSTART:20201101T060000
END:STANDARD
END:VTIMEZONE
BEGIN:VEVENT
DTSTART;TZID=UTC:20210831T120000
DTEND;TZID=UTC:20210831T173000
DTSTAMP:20260419T225626
CREATED:20210823T153151Z
LAST-MODIFIED:20210823T153151Z
UID:1441-1630411200-1630431000@lisasnaturalpath.com
SUMMARY:Open House
DESCRIPTION:
URL:https://lisasnaturalpath.com/event/open-house-3/
LOCATION:LISA’S NATURAL PATH\, 1779 North Main Street Extension\, Kerr Business Center\, Butler\, PA\, 16001\, United States
ATTACH;FMTTYPE=image/jpeg:https://lisasnaturalpath.com/wp-content/uploads/2021/08/5f6b0414-8a44-47a1-4e94-d3e353b6b58d-1.jpg
END:VEVENT
BEGIN:VEVENT
DTSTART;TZID=UTC:20210829T180000
DTEND;TZID=UTC:20210829T210000
DTSTAMP:20260419T225626
CREATED:20210823T152842Z
LAST-MODIFIED:20210823T152842Z
UID:1434-1630260000-1630270800@lisasnaturalpath.com
SUMMARY:Town Hall Meeting
DESCRIPTION:
URL:https://lisasnaturalpath.com/event/town-hall-meeting-2/
LOCATION:Lyndora American Legion Pavilion\, 150 Legion Memorial Lane\, Butler\, PA\, 16001\, United States
ATTACH;FMTTYPE=image/jpeg:https://lisasnaturalpath.com/wp-content/uploads/2021/08/aaa27e58-1c83-7ded-487a-d8fcebc2fa5f.jpg
END:VEVENT
BEGIN:VEVENT
DTSTART;TZID=UTC:20210728T183000
DTEND;TZID=UTC:20210728T203000
DTSTAMP:20260419T225626
CREATED:20210706T203521Z
LAST-MODIFIED:20210706T203521Z
UID:1419-1627497000-1627504200@lisasnaturalpath.com
SUMMARY:Town Hall Meeting
DESCRIPTION:
URL:https://lisasnaturalpath.com/event/town-hall-meeting/
LOCATION:Ben Franklin Tap Room & Grille\, 4270 Route 422\, New Castle\, PA\, 16101\, United States
END:VEVENT
BEGIN:VEVENT
DTSTART;TZID=UTC:20210721T160000
DTEND;TZID=UTC:20210721T200000
DTSTAMP:20260419T225626
CREATED:20210719T193853Z
LAST-MODIFIED:20210719T193853Z
UID:1425-1626883200-1626897600@lisasnaturalpath.com
SUMMARY:Arise USA Resurrection Tour
DESCRIPTION:
URL:https://lisasnaturalpath.com/event/arise-usa-resurrection-tour/
LOCATION:McIntosh Park\, Beaver\, PA\, McIntosh Park\, Beaver\, PA\, 15009\, United States
END:VEVENT
BEGIN:VEVENT
DTSTART;VALUE=DATE:20210713
DTEND;VALUE=DATE:20210714
DTSTAMP:20260419T225626
CREATED:20210624T193131Z
LAST-MODIFIED:20210624T193131Z
UID:1412-1626134400-1626220799@lisasnaturalpath.com
SUMMARY:Three Rivers Thermography
DESCRIPTION:
URL:https://lisasnaturalpath.com/event/three-rivers-thermography/
LOCATION:LISA’S NATURAL PATH\, 1779 North Main Street Extension\, Kerr Business Center\, Butler\, PA\, 16001\, United States
END:VEVENT
BEGIN:VEVENT
DTSTART;TZID=UTC:20210629T120000
DTEND;TZID=UTC:20210629T173000
DTSTAMP:20260419T225626
CREATED:20210624T193046Z
LAST-MODIFIED:20210624T193046Z
UID:1410-1624968000-1624987800@lisasnaturalpath.com
SUMMARY:Open House
DESCRIPTION:
URL:https://lisasnaturalpath.com/event/open-house-2/
LOCATION:LISA’S NATURAL PATH\, 1779 North Main Street Extension\, Kerr Business Center\, Butler\, PA\, 16001\, United States
END:VEVENT
BEGIN:VEVENT
DTSTART;TZID=UTC:20210525T120000
DTEND;TZID=UTC:20210525T173000
DTSTAMP:20260419T225626
CREATED:20210518T204107Z
LAST-MODIFIED:20210518T204107Z
UID:1397-1621944000-1621963800@lisasnaturalpath.com
SUMMARY:Open House
DESCRIPTION:
URL:https://lisasnaturalpath.com/event/open-house/
LOCATION:LISA’S NATURAL PATH\, 1779 North Main Street Extension\, Kerr Business Center\, Butler\, PA\, 16001\, United States
END:VEVENT
BEGIN:VEVENT
DTSTART;TZID=UTC:20210519T180000
DTEND;TZID=UTC:20210519T203000
DTSTAMP:20260419T225626
CREATED:20210518T203952Z
LAST-MODIFIED:20210518T204014Z
UID:1394-1621447200-1621456200@lisasnaturalpath.com
SUMMARY:Lawrence County Town Hall Meeting
DESCRIPTION:
URL:https://lisasnaturalpath.com/event/lawrence-county-town-hall-meeting/
LOCATION:Ben Franklin Tap Room & Grille\, 4270 Route 422\, New Castle\, PA\, 16101\, United States
END:VEVENT
BEGIN:VEVENT
DTSTART;TZID=UTC:20210429T173000
DTEND;TZID=UTC:20210429T190000
DTSTAMP:20260419T225626
CREATED:20210312T012316Z
LAST-MODIFIED:20210312T012316Z
UID:1372-1619717400-1619722800@lisasnaturalpath.com
SUMMARY:Natural Solutions for Stress
DESCRIPTION:
URL:https://lisasnaturalpath.com/event/natural-solutions-for-stress/
LOCATION:LISA’S NATURAL PATH\, 1779 North Main Street Extension\, Kerr Business Center\, Butler\, PA\, 16001\, United States
END:VEVENT
BEGIN:VEVENT
DTSTART;TZID=UTC:20210421T180000
DTEND;TZID=UTC:20210421T203000
DTSTAMP:20260419T225626
CREATED:20210407T001411Z
LAST-MODIFIED:20210407T001452Z
UID:1383-1619028000-1619037000@lisasnaturalpath.com
SUMMARY:Butler County Townhall Meeting
DESCRIPTION:We are so Happy to let you know about the upcoming Butler County Townhall Meeting & Dr. Lisa’s Health Talk.If you have questions about your Constitutional rights\, Candidates\, “the shot” or how to boost your immune system naturally then\, you won’t want to miss the meeting.  It’s FREE!!!  Our Health Talks by Dr. Lisa are back by popular demand which makes us so happy but\, make sure you call and reserve your seat early\, as we have limited seating. \nWe are safe & clean so come out and learn from us!
URL:https://lisasnaturalpath.com/event/butler-county-townhall-meeting/
LOCATION:American Legion Post 778\, Lyndora\, PA\, United States
END:VEVENT
BEGIN:VEVENT
DTSTART;TZID=UTC:20210327T140000
DTEND;TZID=UTC:20210327T163000
DTSTAMP:20260419T225626
CREATED:20210323T154612Z
LAST-MODIFIED:20210323T154612Z
UID:1377-1616853600-1616862600@lisasnaturalpath.com
SUMMARY:Health\, Freedom Pennsylvania
DESCRIPTION:East
URL:https://lisasnaturalpath.com/event/health-freedom-pennsylvania/
LOCATION:East Lawrence Elementary Gym\, 1352 Golf Course Road\, Volant\, PA\, 16156\, United States
ATTACH;FMTTYPE=image/jpeg:https://lisasnaturalpath.com/wp-content/uploads/2021/03/df239af8-a806-4c9a-910c-ed589265d1de.jpg
END:VEVENT
BEGIN:VEVENT
DTSTART;TZID=UTC:20201215T120000
DTEND;TZID=UTC:20201215T173000
DTSTAMP:20260419T225626
CREATED:20201203T121523Z
LAST-MODIFIED:20201203T121627Z
UID:1349-1608033600-1608053400@lisasnaturalpath.com
SUMMARY:Christmas Blowout
DESCRIPTION:
URL:https://lisasnaturalpath.com/event/christmas-blowout/
LOCATION:LISA’S NATURAL PATH\, 1779 North Main Street Extension\, Kerr Business Center\, Butler\, PA\, 16001\, United States
END:VEVENT
BEGIN:VEVENT
DTSTART;TZID=UTC:20200317T173000
DTEND;TZID=UTC:20200317T193000
DTSTAMP:20260419T225626
CREATED:20200228T224923Z
LAST-MODIFIED:20200316T223357Z
UID:1226-1584466200-1584473400@lisasnaturalpath.com
SUMMARY:PROTECT YOURSELF FROM THE CORONAVIRUS!!! - CANCELLED
DESCRIPTION:This event has been cancelled.\n* I will be teaching a Class on this: Tuesday\, March 17 @ 5:30 at my Wellness Center so Don’t miss it but\, I wanted to let you know a few things you could start with. \nWASH YOUR HANDS: frequently during the day with plain soap and water not anti-bacterial\, as that kills all the good and the bad bacteria so you do not have anything to fight with. \nTAKE VITAMIN D3: Everyone is deficient and it is the major immune system nutrient. I recommend 4\,000-5\,000 IU’s a day all year\, except Cold & Flu season\, I recommend 10\,000 IU’s a day. If you want to check your levels\, its a blood test\, and I recommend the level be 70 for proper immune system function. \nCUT DOWN ON SUGAR & WHITE CARBS: Sugar hides in everything\, and 1 tsp of sugar lowers your immune system for 20 minutes\, plus it’s a powerful inflammatory. Anything white: flour\, rice\, crackers\, potatoes\, etc. turn into instant sugar in the body. \nSEE A CHIROPRACTOR: If your body is not in proper alignment it will not have a healthy immune system. The organs have to be getting the proper signals to function properly \nUSE SILVER GEL BETWEEN HAND WASHINGS: Do not use anti-bacterial hand sanitizers as they have a drying alcohol base with chemicals that kill all the good and bad bacteria\, so then the skin doesn’t have anything left to fight off the germs. \nI carry this in my purse\, and even put a little under my nostrils when going out in public to kill the virus before they enter. \nTAKE PROBIOTICS DAILY: 70% of your immune system is in the gut\, and it needs to be replenished daily with the good bacteria to be at it’s maximum potential. \nTAKE AN IMMUNE BOOSTING SUPPLEMENT: During cold & flu season you always want to have your immune system in top shape\, and it’s even more important now. I recommend: My-Immune Mushrooms Powder\, Nature’s Immune Stimulator Caps\, Solstic Immune water bottle sticks\, or a tsp of Silver Shield liquid daily. I take at least 2 of any of the above every day during this season. \n* I will be discussing all the above in more detail and give you lots more great tips for prevention at the March class. It will be filling up fast so you must Pre-Pay the non-refundable fee $10 by cash\, check or PayPal to hold your seat and it will be applied to anything you purchase that night.
URL:https://lisasnaturalpath.com/event/protect-yourself-from-the-coronavirus/
LOCATION:LISA’S NATURAL PATH\, 1779 North Main Street Extension\, Kerr Business Center\, Butler\, PA\, 16001\, United States
END:VEVENT
BEGIN:VEVENT
DTSTART;TZID=UTC:20200225T173000
DTEND;TZID=UTC:20200225T190000
DTSTAMP:20260419T225626
CREATED:20200121T213928Z
LAST-MODIFIED:20200121T213928Z
UID:1195-1582651800-1582657200@lisasnaturalpath.com
SUMMARY:Cold Pressed Juice Cleanses
DESCRIPTION:
URL:https://lisasnaturalpath.com/event/cold-pressed-juice-cleanses/
END:VEVENT
BEGIN:VEVENT
DTSTART;TZID=UTC:20200211T173000
DTEND;TZID=UTC:20200211T190000
DTSTAMP:20260419T225626
CREATED:20200121T213828Z
LAST-MODIFIED:20200121T213828Z
UID:1193-1581442200-1581447600@lisasnaturalpath.com
SUMMARY:Keto 101
DESCRIPTION:
URL:https://lisasnaturalpath.com/event/keto-101/
LOCATION:LISA’S NATURAL PATH\, 1779 North Main Street Extension\, Kerr Business Center\, Butler\, PA\, 16001\, United States
END:VEVENT
BEGIN:VEVENT
DTSTART;TZID=UTC:20200211T080000
DTEND;TZID=UTC:20200211T170000
DTSTAMP:20260419T225626
CREATED:20200121T213722Z
LAST-MODIFIED:20200121T213722Z
UID:1190-1581408000-1581440400@lisasnaturalpath.com
SUMMARY:Three Rivers Thermography Comes to Lisa's Natural Path
DESCRIPTION:
URL:https://lisasnaturalpath.com/event/three-rivers-thermography-comes-to-lisas-natural-path/
LOCATION:LISA’S NATURAL PATH\, 1779 North Main Street Extension\, Kerr Business Center\, Butler\, PA\, 16001\, United States
END:VEVENT
BEGIN:VEVENT
DTSTART;TZID=UTC:20200128T173000
DTEND;TZID=UTC:20200128T190000
DTSTAMP:20260419T225626
CREATED:20200116T004807Z
LAST-MODIFIED:20200116T004807Z
UID:1175-1580232600-1580238000@lisasnaturalpath.com
SUMMARY:All About CBD
DESCRIPTION:
URL:https://lisasnaturalpath.com/event/all-about-cbd/
LOCATION:LISA’S NATURAL PATH\, 1779 North Main Street Extension\, Kerr Business Center\, Butler\, PA\, 16001\, United States
END:VEVENT
BEGIN:VEVENT
DTSTART;TZID=UTC:20190530T173000
DTEND;TZID=UTC:20190530T183000
DTSTAMP:20260419T225626
CREATED:20190516T142940Z
LAST-MODIFIED:20190516T151851Z
UID:1050-1559237400-1559241000@lisasnaturalpath.com
SUMMARY:Lose Weight\, Gain More Energy\, Lower Blood Sugar\, Pressure & Cholesterol Seminar
DESCRIPTION:
URL:https://lisasnaturalpath.com/event/lose-weight-gain-more-energy-lower-blood-sugar-pressure-cholesterol-seminar/
LOCATION:LISA’S NATURAL PATH\, 1779 North Main Street Extension\, Kerr Business Center\, Butler\, PA\, 16001\, United States
END:VEVENT
BEGIN:VEVENT
DTSTART;TZID=UTC:20190528T173000
DTEND;TZID=UTC:20190528T183000
DTSTAMP:20260419T225626
CREATED:20190516T142822Z
LAST-MODIFIED:20190516T151828Z
UID:1048-1559064600-1559068200@lisasnaturalpath.com
SUMMARY:Natural Solutions Hemp Extract
DESCRIPTION:
URL:https://lisasnaturalpath.com/event/natural-solutions-hemp-extract-2/
LOCATION:LISA’S NATURAL PATH\, 1779 North Main Street Extension\, Kerr Business Center\, Butler\, PA\, 16001\, United States
END:VEVENT
BEGIN:VEVENT
DTSTART;TZID=UTC:20190521T173000
DTEND;TZID=UTC:20190521T183000
DTSTAMP:20260419T225626
CREATED:20190516T142653Z
LAST-MODIFIED:20190516T151759Z
UID:1046-1558459800-1558463400@lisasnaturalpath.com
SUMMARY:In.Form Lose Weight & Regain Your Health
DESCRIPTION:
URL:https://lisasnaturalpath.com/event/in-form-lose-weight-regain-your-health/
LOCATION:LISA’S NATURAL PATH\, 1779 North Main Street Extension\, Kerr Business Center\, Butler\, PA\, 16001\, United States
END:VEVENT
BEGIN:VEVENT
DTSTART;TZID=UTC:20190507T173000
DTEND;TZID=UTC:20190507T183000
DTSTAMP:20260419T225626
CREATED:20190419T150414Z
LAST-MODIFIED:20190419T150414Z
UID:1021-1557250200-1557253800@lisasnaturalpath.com
SUMMARY:The Program that is changing lives!
DESCRIPTION:Need to Lose Weight? \nNeed more Energy? \nHave Blood Sugar\, Cholesterol or Blood Pressure Issues? \n\nCome at 5PM and receive a Complimetary Biotracker Health Assessement.
URL:https://lisasnaturalpath.com/event/the-program-that-is-changing-lives/
LOCATION:LISA’S NATURAL PATH\, 1779 North Main Street Extension\, Kerr Business Center\, Butler\, PA\, 16001\, United States
END:VEVENT
BEGIN:VEVENT
DTSTART;TZID=UTC:20190430T120000
DTEND;TZID=UTC:20190430T190000
DTSTAMP:20260419T225626
CREATED:20190419T150531Z
LAST-MODIFIED:20190419T150531Z
UID:1023-1556625600-1556650800@lisasnaturalpath.com
SUMMARY:Customer Appreciation Day!
DESCRIPTION:20% OFF SALE
URL:https://lisasnaturalpath.com/event/customer-appreciation-day-3/
END:VEVENT
BEGIN:VEVENT
DTSTART;TZID=UTC:20190326T173000
DTEND;TZID=UTC:20190326T183000
DTSTAMP:20260419T225626
CREATED:20190308T170054Z
LAST-MODIFIED:20190308T170054Z
UID:1000-1553621400-1553625000@lisasnaturalpath.com
SUMMARY:Natural Solutions for Adrenals and Thyroid
DESCRIPTION:
URL:https://lisasnaturalpath.com/event/natural-solutions-for-adrenals-and-thyroid/
LOCATION:LISA’S NATURAL PATH\, 1779 North Main Street Extension\, Kerr Business Center\, Butler\, PA\, 16001\, United States
END:VEVENT
BEGIN:VEVENT
DTSTART;TZID=America/New_York:20190226T053000
DTEND;TZID=America/New_York:20190226T183000
DTSTAMP:20260419T225626
CREATED:20190212T163224Z
LAST-MODIFIED:20190212T163225Z
UID:983-1551159000-1551205800@lisasnaturalpath.com
SUMMARY:Natural Solutions Hemp Extract
DESCRIPTION:This event is designed to educate about CBD and how it works\, what forms are best\, what to look out for\, and how it correlates to pain\, brain and inflammation. Guest speaker Mike Gallagher. Please RSVP for this event. $10 if you register.
URL:https://lisasnaturalpath.com/event/natural-solutions-hemp-extract/
LOCATION:LISA’S NATURAL PATH\, 1779 North Main Street Extension\, Kerr Business Center\, Butler\, PA\, 16001\, United States
END:VEVENT
BEGIN:VEVENT
DTSTART;TZID=UTC:20190129T173000
DTEND;TZID=UTC:20190129T183000
DTSTAMP:20260419T225626
CREATED:20190123T193206Z
LAST-MODIFIED:20190123T193321Z
UID:975-1548783000-1548786600@lisasnaturalpath.com
SUMMARY:Detox & Alkalize your body to improve your health\, with Special Guest Speaker
DESCRIPTION:FEE: $10 call & pre-register (SPECIAL: If you bring a friend YOU get in for half price!)\n$15 @ the door\n*FREE with student I.D.*\nIncludes: 1 Hour Seminar\, Questions & Answers\, Samples & Specials
URL:https://lisasnaturalpath.com/event/detox-alkalize-your-body-to-improve-your-health-with-special-guest-speaker/
LOCATION:LISA’S NATURAL PATH\, 1779 North Main Street Extension\, Kerr Business Center\, Butler\, PA\, 16001\, United States
END:VEVENT
BEGIN:VEVENT
DTSTART;TZID=UTC:20181016T173000
DTEND;TZID=UTC:20181016T183000
DTSTAMP:20260419T225626
CREATED:20181010T183756Z
LAST-MODIFIED:20181010T183756Z
UID:937-1539711000-1539714600@lisasnaturalpath.com
SUMMARY:Integrated Approach to Surviving Breast Cancer
DESCRIPTION:Join us for a very important event! Integrated Approach to Surviving Breast Cancer and Other Hormonal Issues from PMS to Menopause \nAs well all know\, October is Breast Cancer Awareness Month and what better way to become aware than an entire health seminar? \nCost: $10 pre-register\, $15 @ the door \n*FREE with student I.D.*
URL:https://lisasnaturalpath.com/event/integrated-approach-to-surviving-breast-cancer/
END:VEVENT
BEGIN:VEVENT
DTSTART;TZID=UTC:20180828T173000
DTEND;TZID=UTC:20180828T183000
DTSTAMP:20260419T225626
CREATED:20180821T165103Z
LAST-MODIFIED:20180821T165401Z
UID:915-1535477400-1535481000@lisasnaturalpath.com
SUMMARY:Lyme Seminar
DESCRIPTION:Lyme Disease – This event will cover how to minimize your risk\, and natural remedies for those with Lyme disease. $10\, or $15 at the door. Free Samples.
URL:https://lisasnaturalpath.com/event/lyme-seminar/
END:VEVENT
BEGIN:VEVENT
DTSTART;TZID=UTC:20180815T180000
DTEND;TZID=UTC:20180815T200000
DTSTAMP:20260419T225626
CREATED:20180807T170429Z
LAST-MODIFIED:20180807T170701Z
UID:911-1534356000-1534363200@lisasnaturalpath.com
SUMMARY:Business Mixer
DESCRIPTION:A Business Referral Xchange (BRX) Event!  \nWhen: Wednesday\, August 15th\, 2018\nWhat: Networking\, Business Commercials\, Food and a Speaker\nWhere: 540 Fairground Hill Road Butler\, PA 16001 \n\nCOST: $15.00\ncash or check
URL:https://lisasnaturalpath.com/event/business-mixer/
END:VEVENT
BEGIN:VEVENT
DTSTART;TZID=UTC:20180814T173000
DTEND;TZID=UTC:20180814T183000
DTSTAMP:20260419T225626
CREATED:20180807T165848Z
LAST-MODIFIED:20180807T165848Z
UID:909-1534267800-1534271400@lisasnaturalpath.com
SUMMARY:Vaccine Seminar
DESCRIPTION:This seminar is the most recent research and not about offending anyone!  \nWe just want to offer the education so parents can make informed choices. This seminar we will tell you the whole story about vaccines\, including their potential problems and side effects. We’ll also discuss how to help the real hero of immunity\, our own immune system\, with herbs and nutrition. \n\nPRE-REGISTRATION: $10 \nAT THE DOOR: $15\nCall to pre-register today!
URL:https://lisasnaturalpath.com/event/vaccine-seminar/
END:VEVENT
BEGIN:VEVENT
DTSTART;TZID=UTC:20180424T173000
DTEND;TZID=UTC:20180424T183000
DTSTAMP:20260419T225626
CREATED:20180423T165128Z
LAST-MODIFIED:20180423T165128Z
UID:872-1524591000-1524594600@lisasnaturalpath.com
SUMMARY:Healthy Meal Planning
DESCRIPTION:Let Food be thy Medicine & Medicine be thy Food. $10 and includes Seminar\, Handouts\, Healthy Snacks and Questions and Answers.  Call to Register.
URL:https://lisasnaturalpath.com/event/healthy-meal-planning/
END:VEVENT
END:VCALENDAR