BEGIN:VCALENDAR
VERSION:2.0
PRODID:-//Lisa&#039;s Natural Path, Herb Shop &amp; Wellness Center - ECPv6.15.20//NONSGML v1.0//EN
CALSCALE:GREGORIAN
METHOD:PUBLISH
X-WR-CALNAME:Lisa&#039;s Natural Path, Herb Shop &amp; Wellness Center
X-ORIGINAL-URL:https://lisasnaturalpath.com
X-WR-CALDESC:Events for Lisa&#039;s Natural Path, Herb Shop &amp; Wellness Center
REFRESH-INTERVAL;VALUE=DURATION:PT1H
X-Robots-Tag:noindex
X-PUBLISHED-TTL:PT1H
BEGIN:VTIMEZONE
TZID:UTC
BEGIN:STANDARD
TZOFFSETFROM:+0000
TZOFFSETTO:+0000
TZNAME:UTC
DTSTART:20210101T000000
END:STANDARD
END:VTIMEZONE
BEGIN:VEVENT
DTSTART;TZID=UTC:20240625T100000
DTEND;TZID=UTC:20240625T170000
DTSTAMP:20260419T153800
CREATED:20240522T180744Z
LAST-MODIFIED:20240620T111222Z
UID:1951-1719309600-1719334800@lisasnaturalpath.com
SUMMARY:June Sale
DESCRIPTION:DON’T MISS OUR BIG  SALE\nON EVERYTHING!!! (except consignments)
URL:https://lisasnaturalpath.com/event/june-sale/
LOCATION:LISA’S NATURAL PATH\, 1779 North Main Street Extension\, Kerr Business Center\, Butler\, PA\, 16001\, United States
ATTACH;FMTTYPE=image/jpeg:https://lisasnaturalpath.com/wp-content/uploads/2024/06/5a9c4b6f-3d1b-0e10-1a7a-909b9353c7fd.jpg
END:VEVENT
BEGIN:VEVENT
DTSTART;TZID=UTC:20240620T173000
DTEND;TZID=UTC:20240620T193000
DTSTAMP:20260419T153800
CREATED:20240425T201609Z
LAST-MODIFIED:20240522T180911Z
UID:1936-1718904600-1718911800@lisasnaturalpath.com
SUMMARY:GI Solutions Workshop
DESCRIPTION:
URL:https://lisasnaturalpath.com/event/gi-solutions-workshop-2/
LOCATION:LISA’S NATURAL PATH\, 1779 North Main Street Extension\, Kerr Business Center\, Butler\, PA\, 16001\, United States
ATTACH;FMTTYPE=image/jpeg:https://lisasnaturalpath.com/wp-content/uploads/2024/04/1ee3f101-8f88-3702-5b5f-2a0083a4e8b3.jpg
END:VEVENT
BEGIN:VEVENT
DTSTART;TZID=UTC:20240530T170000
DTEND;TZID=UTC:20240530T183000
DTSTAMP:20260419T153800
CREATED:20240522T180843Z
LAST-MODIFIED:20240522T180843Z
UID:1953-1717088400-1717093800@lisasnaturalpath.com
SUMMARY:Hormone Workshop
DESCRIPTION:
URL:https://lisasnaturalpath.com/event/hormone-workshop/
LOCATION:LISA’S NATURAL PATH\, 1779 North Main Street Extension\, Kerr Business Center\, Butler\, PA\, 16001\, United States
ATTACH;FMTTYPE=image/jpeg:https://lisasnaturalpath.com/wp-content/uploads/2024/05/89c62400-a2c8-d7df-98dd-9b9e516aa448.jpg
END:VEVENT
BEGIN:VEVENT
DTSTART;TZID=UTC:20240528T100000
DTEND;TZID=UTC:20240528T170000
DTSTAMP:20260419T153800
CREATED:20240522T180712Z
LAST-MODIFIED:20240522T180712Z
UID:1949-1716890400-1716915600@lisasnaturalpath.com
SUMMARY:May Sale
DESCRIPTION:DON’T MISS OUR BIG  SALE\nON EVERYTHING!!! (except consignments)
URL:https://lisasnaturalpath.com/event/may-sale/
LOCATION:LISA’S NATURAL PATH\, 1779 North Main Street Extension\, Kerr Business Center\, Butler\, PA\, 16001\, United States
END:VEVENT
BEGIN:VEVENT
DTSTART;TZID=UTC:20240516T173000
DTEND;TZID=UTC:20240516T183000
DTSTAMP:20260419T153800
CREATED:20240425T201527Z
LAST-MODIFIED:20240425T201527Z
UID:1933-1715880600-1715884200@lisasnaturalpath.com
SUMMARY:Dr. Lisa's Organic Store Tour
DESCRIPTION:
URL:https://lisasnaturalpath.com/event/dr-lisas-organic-store-tour/
LOCATION:Aldi’s 196 Bon Aire Plaza\, 196 Bon Aire Plaza\, Butler\, PA\, United States
ATTACH;FMTTYPE=image/jpeg:https://lisasnaturalpath.com/wp-content/uploads/2024/04/33c6c0b6-a8e7-e943-6821-ee95af47aaaa.jpg
END:VEVENT
BEGIN:VEVENT
DTSTART;TZID=UTC:20240430T100000
DTEND;TZID=UTC:20240430T170000
DTSTAMP:20260419T153800
CREATED:20240425T201233Z
LAST-MODIFIED:20240425T201233Z
UID:1928-1714471200-1714496400@lisasnaturalpath.com
SUMMARY:DON'T MISS OUR BIG  SALE  ON EVERYTHING!!!
DESCRIPTION:
URL:https://lisasnaturalpath.com/event/dont-miss-our-big-sale-on-everything/
LOCATION:LISA’S NATURAL PATH\, 1779 North Main Street Extension\, Kerr Business Center\, Butler\, PA\, 16001\, United States
END:VEVENT
BEGIN:VEVENT
DTSTART;TZID=UTC:20240426T100000
DTEND;TZID=UTC:20240426T170000
DTSTAMP:20260419T153800
CREATED:20240321T114741Z
LAST-MODIFIED:20240321T114741Z
UID:1904-1714125600-1714150800@lisasnaturalpath.com
SUMMARY:April Sale
DESCRIPTION:
URL:https://lisasnaturalpath.com/event/april-sale/
LOCATION:LISA’S NATURAL PATH\, 1779 North Main Street Extension\, Kerr Business Center\, Butler\, PA\, 16001\, United States
END:VEVENT
BEGIN:VEVENT
DTSTART;TZID=UTC:20240326T100000
DTEND;TZID=UTC:20240326T170000
DTSTAMP:20260419T153800
CREATED:20240222T214620Z
LAST-MODIFIED:20240222T214620Z
UID:1886-1711447200-1711472400@lisasnaturalpath.com
SUMMARY:March Sale
DESCRIPTION:
URL:https://lisasnaturalpath.com/event/march-sale/
LOCATION:LISA’S NATURAL PATH\, 1779 North Main Street Extension\, Kerr Business Center\, Butler\, PA\, 16001\, United States
ATTACH;FMTTYPE=image/png:https://lisasnaturalpath.com/wp-content/uploads/2023/12/sale.png
END:VEVENT
BEGIN:VEVENT
DTSTART;TZID=UTC:20240227T120000
DTEND;TZID=UTC:20240227T170000
DTSTAMP:20260419T153800
CREATED:20240222T214548Z
LAST-MODIFIED:20240222T214548Z
UID:1884-1709035200-1709053200@lisasnaturalpath.com
SUMMARY:February Sale
DESCRIPTION:
URL:https://lisasnaturalpath.com/event/february-sale/
LOCATION:LISA’S NATURAL PATH\, 1779 North Main Street Extension\, Kerr Business Center\, Butler\, PA\, 16001\, United States
ATTACH;FMTTYPE=image/png:https://lisasnaturalpath.com/wp-content/uploads/2023/12/sale.png
END:VEVENT
BEGIN:VEVENT
DTSTART;TZID=UTC:20240130T100000
DTEND;TZID=UTC:20240130T170000
DTSTAMP:20260419T153800
CREATED:20231229T122149Z
LAST-MODIFIED:20240111T124604Z
UID:1718-1706608800-1706634000@lisasnaturalpath.com
SUMMARY:January Sale
DESCRIPTION:
URL:https://lisasnaturalpath.com/event/january-sale-2/
LOCATION:LISA’S NATURAL PATH\, 1779 North Main Street Extension\, Kerr Business Center\, Butler\, PA\, 16001\, United States
ATTACH;FMTTYPE=image/png:https://lisasnaturalpath.com/wp-content/uploads/2023/12/sale.png
END:VEVENT
BEGIN:VEVENT
DTSTART;TZID=UTC:20231219T100000
DTEND;TZID=UTC:20231219T170000
DTSTAMP:20260419T153800
CREATED:20231213T235554Z
LAST-MODIFIED:20231213T235554Z
UID:1714-1702980000-1703005200@lisasnaturalpath.com
SUMMARY:Sale Day
DESCRIPTION:
URL:https://lisasnaturalpath.com/event/sale-day/
LOCATION:LISA’S NATURAL PATH\, 1779 North Main Street Extension\, Kerr Business Center\, Butler\, PA\, 16001\, United States
ATTACH;FMTTYPE=image/jpeg:https://lisasnaturalpath.com/wp-content/uploads/2023/12/30fe0154-1fe1-aa16-4198-ff7e47b31a85.jpg
END:VEVENT
BEGIN:VEVENT
DTSTART;TZID=UTC:20231125T100000
DTEND;TZID=UTC:20231125T140000
DTSTAMP:20260419T153800
CREATED:20231027T104109Z
LAST-MODIFIED:20231027T104128Z
UID:1700-1700906400-1700920800@lisasnaturalpath.com
SUMMARY:Holiday Open House
DESCRIPTION:
URL:https://lisasnaturalpath.com/event/holiday-open-house/
LOCATION:LISA’S NATURAL PATH\, 1779 North Main Street Extension\, Kerr Business Center\, Butler\, PA\, 16001\, United States
END:VEVENT
BEGIN:VEVENT
DTSTART;TZID=UTC:20231031T100000
DTEND;TZID=UTC:20231031T170000
DTSTAMP:20260419T153800
CREATED:20231027T103947Z
LAST-MODIFIED:20231027T103947Z
UID:1698-1698746400-1698771600@lisasnaturalpath.com
SUMMARY:October Sale
DESCRIPTION:
URL:https://lisasnaturalpath.com/event/october-sale-2/
LOCATION:LISA’S NATURAL PATH\, 1779 North Main Street Extension\, Kerr Business Center\, Butler\, PA\, 16001\, United States
END:VEVENT
BEGIN:VEVENT
DTSTART;TZID=UTC:20231016T173000
DTEND;TZID=UTC:20231016T190000
DTSTAMP:20260419T153800
CREATED:20230921T190639Z
LAST-MODIFIED:20230921T190639Z
UID:1693-1697477400-1697482800@lisasnaturalpath.com
SUMMARY:Stress & Sleep Workshop
DESCRIPTION:
URL:https://lisasnaturalpath.com/event/stress-sleep-workshop/
LOCATION:LISA’S NATURAL PATH\, 1779 North Main Street Extension\, Kerr Business Center\, Butler\, PA\, 16001\, United States
END:VEVENT
BEGIN:VEVENT
DTSTART;TZID=UTC:20230926T100000
DTEND;TZID=UTC:20230926T170000
DTSTAMP:20260419T153800
CREATED:20230821T191041Z
LAST-MODIFIED:20230821T191041Z
UID:1680-1695722400-1695747600@lisasnaturalpath.com
SUMMARY:September Sale
DESCRIPTION:
URL:https://lisasnaturalpath.com/event/september-sale/
LOCATION:LISA’S NATURAL PATH\, 1779 North Main Street Extension\, Kerr Business Center\, Butler\, PA\, 16001\, United States
ATTACH;FMTTYPE=image/jpeg:https://lisasnaturalpath.com/wp-content/uploads/2023/08/79fe06d6-0848-dc27-80da-1b07fe448921-scaled.jpg
END:VEVENT
BEGIN:VEVENT
DTSTART;TZID=UTC:20230926T100000
DTEND;TZID=UTC:20230926T120000
DTSTAMP:20260419T153800
CREATED:20230921T190508Z
LAST-MODIFIED:20230921T190508Z
UID:1691-1695722400-1695729600@lisasnaturalpath.com
SUMMARY:Free Relaxing Chair Massage
DESCRIPTION:
URL:https://lisasnaturalpath.com/event/free-relaxing-chair-massage/
LOCATION:LISA’S NATURAL PATH\, 1779 North Main Street Extension\, Kerr Business Center\, Butler\, PA\, 16001\, United States
END:VEVENT
BEGIN:VEVENT
DTSTART;VALUE=DATE:20230912
DTEND;VALUE=DATE:20230913
DTSTAMP:20260419T153800
CREATED:20230821T191156Z
LAST-MODIFIED:20230821T191156Z
UID:1683-1694476800-1694563199@lisasnaturalpath.com
SUMMARY:Thermography - Digital Infrared Thermal Imaging
DESCRIPTION:
URL:https://lisasnaturalpath.com/event/thermography-digital-infrared-thermal-imaging/
LOCATION:LISA’S NATURAL PATH\, 1779 North Main Street Extension\, Kerr Business Center\, Butler\, PA\, 16001\, United States
ATTACH;FMTTYPE=image/jpeg:https://lisasnaturalpath.com/wp-content/uploads/2023/08/35ffc51e-fef0-0f83-7ba8-c8a66fcc0836-scaled.jpg
END:VEVENT
BEGIN:VEVENT
DTSTART;TZID=UTC:20230829T120000
DTEND;TZID=UTC:20230829T173000
DTSTAMP:20260419T153800
CREATED:20230720T201508Z
LAST-MODIFIED:20230720T201508Z
UID:1674-1693310400-1693330200@lisasnaturalpath.com
SUMMARY:August Summer Sale
DESCRIPTION:
URL:https://lisasnaturalpath.com/event/august-summer-sale/
LOCATION:LISA’S NATURAL PATH\, 1779 North Main Street Extension\, Kerr Business Center\, Butler\, PA\, 16001\, United States
END:VEVENT
BEGIN:VEVENT
DTSTART;TZID=UTC:20230725T120000
DTEND;TZID=UTC:20230725T173000
DTSTAMP:20260419T153800
CREATED:20230720T201421Z
LAST-MODIFIED:20230720T201421Z
UID:1672-1690286400-1690306200@lisasnaturalpath.com
SUMMARY:Summer Sale
DESCRIPTION:
URL:https://lisasnaturalpath.com/event/summer-sale/
LOCATION:LISA’S NATURAL PATH\, 1779 North Main Street Extension\, Kerr Business Center\, Butler\, PA\, 16001\, United States
END:VEVENT
BEGIN:VEVENT
DTSTART;TZID=UTC:20230627T120000
DTEND;TZID=UTC:20230627T173000
DTSTAMP:20260419T153800
CREATED:20230523T113500Z
LAST-MODIFIED:20230523T113500Z
UID:1669-1687867200-1687887000@lisasnaturalpath.com
SUMMARY:Customer Appreciation Day
DESCRIPTION:Sale on Everything! \nFree Snacks & Samples
URL:https://lisasnaturalpath.com/event/customer-appreciation-day-7/
LOCATION:LISA’S NATURAL PATH\, 1779 North Main Street Extension\, Kerr Business Center\, Butler\, PA\, 16001\, United States
END:VEVENT
BEGIN:VEVENT
DTSTART;TZID=UTC:20230530T120000
DTEND;TZID=UTC:20230530T173000
DTSTAMP:20260419T153800
CREATED:20230523T113359Z
LAST-MODIFIED:20230523T113359Z
UID:1667-1685448000-1685467800@lisasnaturalpath.com
SUMMARY:Customer Appreciation Day
DESCRIPTION:Sale on Everything! \nFree Snacks & Samples
URL:https://lisasnaturalpath.com/event/customer-appreciation-day-6/
LOCATION:LISA’S NATURAL PATH\, 1779 North Main Street Extension\, Kerr Business Center\, Butler\, PA\, 16001\, United States
END:VEVENT
BEGIN:VEVENT
DTSTART;TZID=UTC:20230511T173000
DTEND;TZID=UTC:20230511T193000
DTSTAMP:20260419T153800
CREATED:20230420T203519Z
LAST-MODIFIED:20230420T203519Z
UID:1656-1683826200-1683833400@lisasnaturalpath.com
SUMMARY:GI Solutions Workshop
DESCRIPTION:Do you or anyone in your family suffer from:Weight Gain\, Abdominal Pain\, Colitis\, IBS\, GERD\, Acid Reflux\, Heartburn\, Crohn’s\, Constipation\, Loose Bowels\, Diverticulitis\, Indigestion\, Bloating\, etc.?      Don’t miss our FREE WORKSHOP WITH FREE SAMPLES!!!
URL:https://lisasnaturalpath.com/event/gi-solutions-workshop/
LOCATION:LISA’S NATURAL PATH\, 1779 North Main Street Extension\, Kerr Business Center\, Butler\, PA\, 16001\, United States
ATTACH;FMTTYPE=image/jpeg:https://lisasnaturalpath.com/wp-content/uploads/2023/04/416abbdc-57f9-7619-73aa-8bb823d6ec23.jpg
END:VEVENT
BEGIN:VEVENT
DTSTART;TZID=UTC:20230425T120000
DTEND;TZID=UTC:20230425T173000
DTSTAMP:20260419T153800
CREATED:20230420T203704Z
LAST-MODIFIED:20230420T203704Z
UID:1661-1682424000-1682443800@lisasnaturalpath.com
SUMMARY:End of April Sale
DESCRIPTION:DON’T MISS OUR BIG  SALE   ON EVERYTHING!!! (except consignments)Tuesday\, April 25\, 12-5:30
URL:https://lisasnaturalpath.com/event/end-of-april-sale/
LOCATION:LISA’S NATURAL PATH\, 1779 North Main Street Extension\, Kerr Business Center\, Butler\, PA\, 16001\, United States
END:VEVENT
BEGIN:VEVENT
DTSTART;TZID=UTC:20230413T173000
DTEND;TZID=UTC:20230413T183000
DTSTAMP:20260419T153800
CREATED:20230323T211520Z
LAST-MODIFIED:20230323T211520Z
UID:1648-1681407000-1681410600@lisasnaturalpath.com
SUMMARY:FREE DEMONSTRATION CLASS ON NAET
DESCRIPTION:You must call to reserve your seat 724.284.9162 by Monday\, April 10.* Free Drawing for a Scan & If you bring a friend you get a Free Gift.
URL:https://lisasnaturalpath.com/event/free-demonstration-class-on-naet/
LOCATION:LISA’S NATURAL PATH\, 1779 North Main Street Extension\, Kerr Business Center\, Butler\, PA\, 16001\, United States
END:VEVENT
BEGIN:VEVENT
DTSTART;TZID=UTC:20230328T120000
DTEND;TZID=UTC:20230328T173000
DTSTAMP:20260419T153800
CREATED:20230323T211614Z
LAST-MODIFIED:20230323T211614Z
UID:1650-1680004800-1680024600@lisasnaturalpath.com
SUMMARY:Spring Sale
DESCRIPTION:
URL:https://lisasnaturalpath.com/event/spring-sale/
LOCATION:LISA’S NATURAL PATH\, 1779 North Main Street Extension\, Kerr Business Center\, Butler\, PA\, 16001\, United States
END:VEVENT
BEGIN:VEVENT
DTSTART;TZID=UTC:20230327T180000
DTEND;TZID=UTC:20230327T200000
DTSTAMP:20260419T153800
CREATED:20230125T184216Z
LAST-MODIFIED:20230125T184216Z
UID:1614-1679940000-1679947200@lisasnaturalpath.com
SUMMARY:All About Essential Oils-The Basics
DESCRIPTION:Hope you can join me as we have lots of fun discussing and sampling.* You must call the Continuing Education Department at the College to register #724-284-8711
URL:https://lisasnaturalpath.com/event/all-about-essential-oils-the-basics/
LOCATION:Butler County Community College
END:VEVENT
BEGIN:VEVENT
DTSTART;TZID=UTC:20230309T173000
DTEND;TZID=UTC:20230309T183000
DTSTAMP:20260419T153800
CREATED:20230223T211454Z
LAST-MODIFIED:20230223T235522Z
UID:1644-1678383000-1678386600@lisasnaturalpath.com
SUMMARY:Natural Solutions for Colds & Flu to Boost Your Immune System
DESCRIPTION:
URL:https://lisasnaturalpath.com/event/natural-solutions-for-colds-flu-to-boost-your-immune-system/
LOCATION:LISA’S NATURAL PATH\, 1779 North Main Street Extension\, Kerr Business Center\, Butler\, PA\, 16001\, United States
ATTACH;FMTTYPE=image/jpeg:https://lisasnaturalpath.com/wp-content/uploads/2023/02/5ef65369-57c8-74c4-55a7-fd6e77cc9f58.jpg
END:VEVENT
BEGIN:VEVENT
DTSTART;TZID=UTC:20230125T120000
DTEND;TZID=UTC:20230125T173000
DTSTAMP:20260419T153800
CREATED:20230125T184301Z
LAST-MODIFIED:20230125T184301Z
UID:1617-1674648000-1674667800@lisasnaturalpath.com
SUMMARY:January Sale
DESCRIPTION:
URL:https://lisasnaturalpath.com/event/january-sale/
LOCATION:LISA’S NATURAL PATH\, 1779 North Main Street Extension\, Kerr Business Center\, Butler\, PA\, 16001\, United States
END:VEVENT
BEGIN:VEVENT
DTSTART;TZID=UTC:20221220T120000
DTEND;TZID=UTC:20221220T173000
DTSTAMP:20260419T153800
CREATED:20221208T184657Z
LAST-MODIFIED:20221208T184657Z
UID:1600-1671537600-1671557400@lisasnaturalpath.com
SUMMARY:Holiday Sale
DESCRIPTION:
URL:https://lisasnaturalpath.com/event/holiday-sale/
LOCATION:LISA’S NATURAL PATH\, 1779 North Main Street Extension\, Kerr Business Center\, Butler\, PA\, 16001\, United States
ATTACH;FMTTYPE=image/jpeg:https://lisasnaturalpath.com/wp-content/uploads/2022/12/d869fa8d-30ce-fdec-0c75-dd6e6d73a875.jpg
END:VEVENT
BEGIN:VEVENT
DTSTART;TZID=UTC:20221129T120000
DTEND;TZID=UTC:20221129T173000
DTSTAMP:20260419T153800
CREATED:20221123T164825Z
LAST-MODIFIED:20221123T164825Z
UID:1590-1669723200-1669743000@lisasnaturalpath.com
SUMMARY:Holiday Shopping Sale
DESCRIPTION:
URL:https://lisasnaturalpath.com/event/holiday-shopping-sale/
LOCATION:LISA’S NATURAL PATH\, 1779 North Main Street Extension\, Kerr Business Center\, Butler\, PA\, 16001\, United States
ATTACH;FMTTYPE=image/jpeg:https://lisasnaturalpath.com/wp-content/uploads/2022/11/f5cb3143-088b-c21c-ace4-21fbcacf8b05.jpg
END:VEVENT
END:VCALENDAR