BEGIN:VCALENDAR
VERSION:2.0
PRODID:-//Lisa&#039;s Natural Path, Herb Shop &amp; Wellness Center - ECPv6.15.20//NONSGML v1.0//EN
CALSCALE:GREGORIAN
METHOD:PUBLISH
X-WR-CALNAME:Lisa&#039;s Natural Path, Herb Shop &amp; Wellness Center
X-ORIGINAL-URL:https://lisasnaturalpath.com
X-WR-CALDESC:Events for Lisa&#039;s Natural Path, Herb Shop &amp; Wellness Center
REFRESH-INTERVAL;VALUE=DURATION:PT1H
X-Robots-Tag:noindex
X-PUBLISHED-TTL:PT1H
BEGIN:VTIMEZONE
TZID:UTC
BEGIN:STANDARD
TZOFFSETFROM:+0000
TZOFFSETTO:+0000
TZNAME:UTC
DTSTART:20230101T000000
END:STANDARD
END:VTIMEZONE
BEGIN:VEVENT
DTSTART;TZID=UTC:20250828T090000
DTEND;TZID=UTC:20250828T160000
DTSTAMP:20260419T121736
CREATED:20250725T115939Z
LAST-MODIFIED:20250825T172013Z
UID:2358-1756371600-1756396800@lisasnaturalpath.com
SUMMARY:Customer Appreciation
DESCRIPTION:
URL:https://lisasnaturalpath.com/event/customer-appreciation-9/
LOCATION:LISA’S NATURAL PATH\, 1779 North Main Street Extension\, Kerr Business Center\, Butler\, PA\, 16001\, United States
END:VEVENT
BEGIN:VEVENT
DTSTART;TZID=UTC:20250726T100000
DTEND;TZID=UTC:20250726T140000
DTSTAMP:20260419T121736
CREATED:20250626T184324Z
LAST-MODIFIED:20250626T184324Z
UID:2346-1753524000-1753538400@lisasnaturalpath.com
SUMMARY:Customer Appreciation
DESCRIPTION:
URL:https://lisasnaturalpath.com/event/customer-appreciation-8/
LOCATION:LISA’S NATURAL PATH\, 1779 North Main Street Extension\, Kerr Business Center\, Butler\, PA\, 16001\, United States
END:VEVENT
BEGIN:VEVENT
DTSTART;TZID=UTC:20250628T100000
DTEND;TZID=UTC:20250628T140000
DTSTAMP:20260419T121736
CREATED:20250527T184756Z
LAST-MODIFIED:20250527T184756Z
UID:2342-1751104800-1751119200@lisasnaturalpath.com
SUMMARY:Customer Appreciation
DESCRIPTION:
URL:https://lisasnaturalpath.com/event/customer-appreciation-7/
LOCATION:LISA’S NATURAL PATH\, 1779 North Main Street Extension\, Kerr Business Center\, Butler\, PA\, 16001\, United States
END:VEVENT
BEGIN:VEVENT
DTSTART;TZID=UTC:20250531T100000
DTEND;TZID=UTC:20250531T140000
DTSTAMP:20260419T121736
CREATED:20250527T184722Z
LAST-MODIFIED:20250527T184722Z
UID:2340-1748685600-1748700000@lisasnaturalpath.com
SUMMARY:Customer Appreciation
DESCRIPTION:
URL:https://lisasnaturalpath.com/event/customer-appreciation-6/
LOCATION:LISA’S NATURAL PATH\, 1779 North Main Street Extension\, Kerr Business Center\, Butler\, PA\, 16001\, United States
END:VEVENT
BEGIN:VEVENT
DTSTART;TZID=UTC:20250514T170000
DTEND;TZID=UTC:20250514T183000
DTSTAMP:20260419T121736
CREATED:20250424T000934Z
LAST-MODIFIED:20250424T000934Z
UID:2333-1747242000-1747247400@lisasnaturalpath.com
SUMMARY:Natural Solutions to Allergies
DESCRIPTION:
URL:https://lisasnaturalpath.com/event/natural-solutions-to-allergies/
LOCATION:LISA’S NATURAL PATH\, 1779 North Main Street Extension\, Kerr Business Center\, Butler\, PA\, 16001\, United States
ATTACH;FMTTYPE=image/jpeg:https://lisasnaturalpath.com/wp-content/uploads/2025/04/b41409b1-88d4-b0f5-4681-8d7e1fd5df7e.jpg
END:VEVENT
BEGIN:VEVENT
DTSTART;TZID=UTC:20250426T100000
DTEND;TZID=UTC:20250426T140000
DTSTAMP:20260419T121736
CREATED:20250424T000836Z
LAST-MODIFIED:20250424T000836Z
UID:2331-1745661600-1745676000@lisasnaturalpath.com
SUMMARY:Customer Appreciation
DESCRIPTION:
URL:https://lisasnaturalpath.com/event/customer-appreciation-5/
LOCATION:LISA’S NATURAL PATH\, 1779 North Main Street Extension\, Kerr Business Center\, Butler\, PA\, 16001\, United States
END:VEVENT
BEGIN:VEVENT
DTSTART;VALUE=DATE:20250421
DTEND;VALUE=DATE:20250422
DTSTAMP:20260419T121736
CREATED:20250327T233515Z
LAST-MODIFIED:20250327T233515Z
UID:2325-1745193600-1745279999@lisasnaturalpath.com
SUMMARY:Closed Easter Monday
DESCRIPTION:
URL:https://lisasnaturalpath.com/event/closed-easter-monday/
LOCATION:PA
END:VEVENT
BEGIN:VEVENT
DTSTART;TZID=UTC:20250417T170000
DTEND;TZID=UTC:20250417T180000
DTSTAMP:20260419T121736
CREATED:20250327T233439Z
LAST-MODIFIED:20250327T233439Z
UID:2322-1744909200-1744912800@lisasnaturalpath.com
SUMMARY:The Gut Hormone Connection Workshop
DESCRIPTION:
URL:https://lisasnaturalpath.com/event/the-gut-hormone-connection-workshop/
LOCATION:LISA’S NATURAL PATH\, 1779 North Main Street Extension\, Kerr Business Center\, Butler\, PA\, 16001\, United States
ATTACH;FMTTYPE=image/jpeg:https://lisasnaturalpath.com/wp-content/uploads/2025/03/fe4dc078-04b5-3d95-6b10-2fb63930cbc4.jpg
END:VEVENT
BEGIN:VEVENT
DTSTART;TZID=UTC:20250329T100000
DTEND;TZID=UTC:20250329T140000
DTSTAMP:20260419T121736
CREATED:20250221T112228Z
LAST-MODIFIED:20250221T112358Z
UID:2311-1743242400-1743256800@lisasnaturalpath.com
SUMMARY:Customer Appreciation
DESCRIPTION:SAVE THE DATE!!!\n10-2:00 PM\n* On everything except consignments
URL:https://lisasnaturalpath.com/event/customer-appreciation-4/
LOCATION:LISA’S NATURAL PATH\, 1779 North Main Street Extension\, Kerr Business Center\, Butler\, PA\, 16001\, United States
END:VEVENT
BEGIN:VEVENT
DTSTART;TZID=UTC:20250310T171500
DTEND;TZID=UTC:20250310T181500
DTSTAMP:20260419T121736
CREATED:20250305T194330Z
LAST-MODIFIED:20250305T194330Z
UID:2315-1741626900-1741630500@lisasnaturalpath.com
SUMMARY:Back to Basics
DESCRIPTION:
URL:https://lisasnaturalpath.com/event/back-to-basics/
LOCATION:LISA’S NATURAL PATH\, 1779 North Main Street Extension\, Kerr Business Center\, Butler\, PA\, 16001\, United States
ATTACH;FMTTYPE=image/jpeg:https://lisasnaturalpath.com/wp-content/uploads/2025/03/92ca8003-faea-d896-835f-1b1308499fa9.jpg
END:VEVENT
BEGIN:VEVENT
DTSTART;TZID=UTC:20250222T100000
DTEND;TZID=UTC:20250222T140000
DTSTAMP:20260419T121736
CREATED:20250130T013722Z
LAST-MODIFIED:20250130T013722Z
UID:2302-1740218400-1740232800@lisasnaturalpath.com
SUMMARY:Customer Appreciation
DESCRIPTION:SAVE THE DATE!!!I\nSATURDAY\, FEBRUARY 22\, 2025\n10-2:00 PM\n* On everything except consignments
URL:https://lisasnaturalpath.com/event/customer-appreciation-3/
LOCATION:LISA’S NATURAL PATH\, 1779 North Main Street Extension\, Kerr Business Center\, Butler\, PA\, 16001\, United States
END:VEVENT
BEGIN:VEVENT
DTSTART;TZID=UTC:20250212T173000
DTEND;TZID=UTC:20250212T183000
DTSTAMP:20260419T121736
CREATED:20250203T195303Z
LAST-MODIFIED:20250203T195303Z
UID:2305-1739381400-1739385000@lisasnaturalpath.com
SUMMARY:Back to the Basics
DESCRIPTION:
URL:https://lisasnaturalpath.com/event/back-to-the-basics/
LOCATION:LISA’S NATURAL PATH\, 1779 North Main Street Extension\, Kerr Business Center\, Butler\, PA\, 16001\, United States
ATTACH;FMTTYPE=image/jpeg:https://lisasnaturalpath.com/wp-content/uploads/2025/02/c87f33e1-ca54-7054-5b4a-4e9c25930a87.jpg
END:VEVENT
BEGIN:VEVENT
DTSTART;TZID=UTC:20241130T100000
DTEND;TZID=UTC:20241130T140000
DTSTAMP:20260419T121736
CREATED:20240930T224904Z
LAST-MODIFIED:20241021T201208Z
UID:2249-1732960800-1732975200@lisasnaturalpath.com
SUMMARY:Christmas Open House
DESCRIPTION:
URL:https://lisasnaturalpath.com/event/customer-appreciation-2/
LOCATION:LISA’S NATURAL PATH\, 1779 North Main Street Extension\, Kerr Business Center\, Butler\, PA\, 16001\, United States
ATTACH;FMTTYPE=image/jpeg:https://lisasnaturalpath.com/wp-content/uploads/2024/09/429648e5-b39d-1f9a-654f-2cda7787a212.jpg
END:VEVENT
BEGIN:VEVENT
DTSTART;TZID=UTC:20241026T100000
DTEND;TZID=UTC:20241026T140000
DTSTAMP:20260419T121736
CREATED:20240930T224815Z
LAST-MODIFIED:20240930T224815Z
UID:2247-1729936800-1729951200@lisasnaturalpath.com
SUMMARY:Customer Appreciation
DESCRIPTION:
URL:https://lisasnaturalpath.com/event/customer-appreciation/
LOCATION:LISA’S NATURAL PATH\, 1779 North Main Street Extension\, Kerr Business Center\, Butler\, PA\, 16001\, United States
END:VEVENT
BEGIN:VEVENT
DTSTART;TZID=UTC:20240928T100000
DTEND;TZID=UTC:20240928T140000
DTSTAMP:20260419T121736
CREATED:20240820T102542Z
LAST-MODIFIED:20240820T102542Z
UID:2012-1727517600-1727532000@lisasnaturalpath.com
SUMMARY:Customer Appreciation Day
DESCRIPTION:
URL:https://lisasnaturalpath.com/event/customer-appreciation-day-10/
LOCATION:LISA’S NATURAL PATH\, 1779 North Main Street Extension\, Kerr Business Center\, Butler\, PA\, 16001\, United States
END:VEVENT
BEGIN:VEVENT
DTSTART;TZID=UTC:20240926T170000
DTEND;TZID=UTC:20240926T183000
DTSTAMP:20260419T121736
CREATED:20240912T112045Z
LAST-MODIFIED:20240912T112045Z
UID:2244-1727370000-1727375400@lisasnaturalpath.com
SUMMARY:Weight Loss and Hormones Workshop
DESCRIPTION:
URL:https://lisasnaturalpath.com/event/weight-loss-and-hormones-workshop/
LOCATION:LISA’S NATURAL PATH\, 1779 North Main Street Extension\, Kerr Business Center\, Butler\, PA\, 16001\, United States
ATTACH;FMTTYPE=image/jpeg:https://lisasnaturalpath.com/wp-content/uploads/2024/09/aed99c52-51c5-52fc-f7a1-4b0bad0c1121.jpg
END:VEVENT
BEGIN:VEVENT
DTSTART;VALUE=DATE:20240924
DTEND;VALUE=DATE:20240925
DTSTAMP:20260419T121736
CREATED:20240820T102657Z
LAST-MODIFIED:20240912T112127Z
UID:2014-1727136000-1727222399@lisasnaturalpath.com
SUMMARY:Three Rivers Thermography
DESCRIPTION:
URL:https://lisasnaturalpath.com/event/three-rivers-thermography-2/
LOCATION:LISA’S NATURAL PATH\, 1779 North Main Street Extension\, Kerr Business Center\, Butler\, PA\, 16001\, United States
ATTACH;FMTTYPE=image/jpeg:https://lisasnaturalpath.com/wp-content/uploads/2024/08/1498bfd6-4ddc-d58f-3334-29496474464a.jpg
END:VEVENT
BEGIN:VEVENT
DTSTART;TZID=UTC:20240824T100000
DTEND;TZID=UTC:20240824T140000
DTSTAMP:20260419T121736
CREATED:20240726T112339Z
LAST-MODIFIED:20240820T102457Z
UID:1984-1724493600-1724508000@lisasnaturalpath.com
SUMMARY:Customer Appreciation Day
DESCRIPTION:
URL:https://lisasnaturalpath.com/event/customer-appreciation-day-9/
LOCATION:LISA’S NATURAL PATH\, 1779 North Main Street Extension\, Kerr Business Center\, Butler\, PA\, 16001\, United States
END:VEVENT
BEGIN:VEVENT
DTSTART;TZID=UTC:20240822T170000
DTEND;TZID=UTC:20240822T183000
DTSTAMP:20260419T121736
CREATED:20240726T112508Z
LAST-MODIFIED:20240726T112508Z
UID:1986-1724346000-1724351400@lisasnaturalpath.com
SUMMARY:All About the Thyroid Workshop
DESCRIPTION:
URL:https://lisasnaturalpath.com/event/all-about-the-thyroid-workshop/
LOCATION:LISA’S NATURAL PATH\, 1779 North Main Street Extension\, Kerr Business Center\, Butler\, PA\, 16001\, United States
ATTACH;FMTTYPE=image/jpeg:https://lisasnaturalpath.com/wp-content/uploads/2024/07/9153f30c-2071-d755-354f-d93d90d79690.jpg
END:VEVENT
BEGIN:VEVENT
DTSTART;TZID=UTC:20240730T100000
DTEND;TZID=UTC:20240730T170000
DTSTAMP:20260419T121736
CREATED:20240620T111137Z
LAST-MODIFIED:20240620T111137Z
UID:1964-1722333600-1722358800@lisasnaturalpath.com
SUMMARY:Customer Appreciation Day
DESCRIPTION:
URL:https://lisasnaturalpath.com/event/customer-appreciation-day-8/
LOCATION:LISA’S NATURAL PATH\, 1779 North Main Street Extension\, Kerr Business Center\, Butler\, PA\, 16001\, United States
ATTACH;FMTTYPE=image/jpeg:https://lisasnaturalpath.com/wp-content/uploads/2024/06/5a9c4b6f-3d1b-0e10-1a7a-909b9353c7fd.jpg
END:VEVENT
BEGIN:VEVENT
DTSTART;TZID=UTC:20240625T100000
DTEND;TZID=UTC:20240625T170000
DTSTAMP:20260419T121736
CREATED:20240522T180744Z
LAST-MODIFIED:20240620T111222Z
UID:1951-1719309600-1719334800@lisasnaturalpath.com
SUMMARY:June Sale
DESCRIPTION:DON’T MISS OUR BIG  SALE\nON EVERYTHING!!! (except consignments)
URL:https://lisasnaturalpath.com/event/june-sale/
LOCATION:LISA’S NATURAL PATH\, 1779 North Main Street Extension\, Kerr Business Center\, Butler\, PA\, 16001\, United States
ATTACH;FMTTYPE=image/jpeg:https://lisasnaturalpath.com/wp-content/uploads/2024/06/5a9c4b6f-3d1b-0e10-1a7a-909b9353c7fd.jpg
END:VEVENT
BEGIN:VEVENT
DTSTART;TZID=UTC:20240620T173000
DTEND;TZID=UTC:20240620T193000
DTSTAMP:20260419T121736
CREATED:20240425T201609Z
LAST-MODIFIED:20240522T180911Z
UID:1936-1718904600-1718911800@lisasnaturalpath.com
SUMMARY:GI Solutions Workshop
DESCRIPTION:
URL:https://lisasnaturalpath.com/event/gi-solutions-workshop-2/
LOCATION:LISA’S NATURAL PATH\, 1779 North Main Street Extension\, Kerr Business Center\, Butler\, PA\, 16001\, United States
ATTACH;FMTTYPE=image/jpeg:https://lisasnaturalpath.com/wp-content/uploads/2024/04/1ee3f101-8f88-3702-5b5f-2a0083a4e8b3.jpg
END:VEVENT
BEGIN:VEVENT
DTSTART;TZID=UTC:20240530T170000
DTEND;TZID=UTC:20240530T183000
DTSTAMP:20260419T121736
CREATED:20240522T180843Z
LAST-MODIFIED:20240522T180843Z
UID:1953-1717088400-1717093800@lisasnaturalpath.com
SUMMARY:Hormone Workshop
DESCRIPTION:
URL:https://lisasnaturalpath.com/event/hormone-workshop/
LOCATION:LISA’S NATURAL PATH\, 1779 North Main Street Extension\, Kerr Business Center\, Butler\, PA\, 16001\, United States
ATTACH;FMTTYPE=image/jpeg:https://lisasnaturalpath.com/wp-content/uploads/2024/05/89c62400-a2c8-d7df-98dd-9b9e516aa448.jpg
END:VEVENT
BEGIN:VEVENT
DTSTART;TZID=UTC:20240528T100000
DTEND;TZID=UTC:20240528T170000
DTSTAMP:20260419T121736
CREATED:20240522T180712Z
LAST-MODIFIED:20240522T180712Z
UID:1949-1716890400-1716915600@lisasnaturalpath.com
SUMMARY:May Sale
DESCRIPTION:DON’T MISS OUR BIG  SALE\nON EVERYTHING!!! (except consignments)
URL:https://lisasnaturalpath.com/event/may-sale/
LOCATION:LISA’S NATURAL PATH\, 1779 North Main Street Extension\, Kerr Business Center\, Butler\, PA\, 16001\, United States
END:VEVENT
BEGIN:VEVENT
DTSTART;TZID=UTC:20240516T173000
DTEND;TZID=UTC:20240516T183000
DTSTAMP:20260419T121736
CREATED:20240425T201527Z
LAST-MODIFIED:20240425T201527Z
UID:1933-1715880600-1715884200@lisasnaturalpath.com
SUMMARY:Dr. Lisa's Organic Store Tour
DESCRIPTION:
URL:https://lisasnaturalpath.com/event/dr-lisas-organic-store-tour/
LOCATION:Aldi’s 196 Bon Aire Plaza\, 196 Bon Aire Plaza\, Butler\, PA\, United States
ATTACH;FMTTYPE=image/jpeg:https://lisasnaturalpath.com/wp-content/uploads/2024/04/33c6c0b6-a8e7-e943-6821-ee95af47aaaa.jpg
END:VEVENT
BEGIN:VEVENT
DTSTART;TZID=UTC:20240430T100000
DTEND;TZID=UTC:20240430T170000
DTSTAMP:20260419T121736
CREATED:20240425T201233Z
LAST-MODIFIED:20240425T201233Z
UID:1928-1714471200-1714496400@lisasnaturalpath.com
SUMMARY:DON'T MISS OUR BIG  SALE  ON EVERYTHING!!!
DESCRIPTION:
URL:https://lisasnaturalpath.com/event/dont-miss-our-big-sale-on-everything/
LOCATION:LISA’S NATURAL PATH\, 1779 North Main Street Extension\, Kerr Business Center\, Butler\, PA\, 16001\, United States
END:VEVENT
BEGIN:VEVENT
DTSTART;TZID=UTC:20240426T100000
DTEND;TZID=UTC:20240426T170000
DTSTAMP:20260419T121736
CREATED:20240321T114741Z
LAST-MODIFIED:20240321T114741Z
UID:1904-1714125600-1714150800@lisasnaturalpath.com
SUMMARY:April Sale
DESCRIPTION:
URL:https://lisasnaturalpath.com/event/april-sale/
LOCATION:LISA’S NATURAL PATH\, 1779 North Main Street Extension\, Kerr Business Center\, Butler\, PA\, 16001\, United States
END:VEVENT
BEGIN:VEVENT
DTSTART;TZID=UTC:20240326T100000
DTEND;TZID=UTC:20240326T170000
DTSTAMP:20260419T121736
CREATED:20240222T214620Z
LAST-MODIFIED:20240222T214620Z
UID:1886-1711447200-1711472400@lisasnaturalpath.com
SUMMARY:March Sale
DESCRIPTION:
URL:https://lisasnaturalpath.com/event/march-sale/
LOCATION:LISA’S NATURAL PATH\, 1779 North Main Street Extension\, Kerr Business Center\, Butler\, PA\, 16001\, United States
ATTACH;FMTTYPE=image/png:https://lisasnaturalpath.com/wp-content/uploads/2023/12/sale.png
END:VEVENT
BEGIN:VEVENT
DTSTART;TZID=UTC:20240227T120000
DTEND;TZID=UTC:20240227T170000
DTSTAMP:20260419T121736
CREATED:20240222T214548Z
LAST-MODIFIED:20240222T214548Z
UID:1884-1709035200-1709053200@lisasnaturalpath.com
SUMMARY:February Sale
DESCRIPTION:
URL:https://lisasnaturalpath.com/event/february-sale/
LOCATION:LISA’S NATURAL PATH\, 1779 North Main Street Extension\, Kerr Business Center\, Butler\, PA\, 16001\, United States
ATTACH;FMTTYPE=image/png:https://lisasnaturalpath.com/wp-content/uploads/2023/12/sale.png
END:VEVENT
BEGIN:VEVENT
DTSTART;TZID=UTC:20240130T100000
DTEND;TZID=UTC:20240130T170000
DTSTAMP:20260419T121736
CREATED:20231229T122149Z
LAST-MODIFIED:20240111T124604Z
UID:1718-1706608800-1706634000@lisasnaturalpath.com
SUMMARY:January Sale
DESCRIPTION:
URL:https://lisasnaturalpath.com/event/january-sale-2/
LOCATION:LISA’S NATURAL PATH\, 1779 North Main Street Extension\, Kerr Business Center\, Butler\, PA\, 16001\, United States
ATTACH;FMTTYPE=image/png:https://lisasnaturalpath.com/wp-content/uploads/2023/12/sale.png
END:VEVENT
END:VCALENDAR