BEGIN:VCALENDAR
VERSION:2.0
PRODID:-//Lisa&#039;s Natural Path, Herb Shop &amp; Wellness Center - ECPv6.15.20//NONSGML v1.0//EN
CALSCALE:GREGORIAN
METHOD:PUBLISH
X-WR-CALNAME:Lisa&#039;s Natural Path, Herb Shop &amp; Wellness Center
X-ORIGINAL-URL:https://lisasnaturalpath.com
X-WR-CALDESC:Events for Lisa&#039;s Natural Path, Herb Shop &amp; Wellness Center
REFRESH-INTERVAL;VALUE=DURATION:PT1H
X-Robots-Tag:noindex
X-PUBLISHED-TTL:PT1H
BEGIN:VTIMEZONE
TZID:UTC
BEGIN:STANDARD
TZOFFSETFROM:+0000
TZOFFSETTO:+0000
TZNAME:UTC
DTSTART:20150101T000000
END:STANDARD
END:VTIMEZONE
BEGIN:VEVENT
DTSTART;VALUE=DATE:20161120
DTEND;VALUE=DATE:20161121
DTSTAMP:20260420T154958
CREATED:20161102T152720Z
LAST-MODIFIED:20161102T152720Z
UID:488-1479600000-1479686399@lisasnaturalpath.com
SUMMARY:DR. LISA'S BIRTHDAY
DESCRIPTION:
URL:https://lisasnaturalpath.com/event/dr-lisas-birthday/
END:VEVENT
BEGIN:VEVENT
DTSTART;TZID=UTC:20161117T170000
DTEND;TZID=UTC:20161117T183000
DTSTAMP:20260420T154958
CREATED:20161102T152701Z
LAST-MODIFIED:20161102T152701Z
UID:486-1479402000-1479407400@lisasnaturalpath.com
SUMMARY:IN.FORM PROGRAM PARTICIPANTS CLASS
DESCRIPTION:5:00-5:30 Health Assessment/Measure; 5:30-6:30 Health Education Class\n* Guests may come to 1 class Free
URL:https://lisasnaturalpath.com/event/in-form-program-participants-class-5/
END:VEVENT
BEGIN:VEVENT
DTSTART;TZID=UTC:20161115T173000
DTEND;TZID=UTC:20161115T183000
DTSTAMP:20260420T154958
CREATED:20161102T152530Z
LAST-MODIFIED:20161102T152530Z
UID:482-1479231000-1479234600@lisasnaturalpath.com
SUMMARY:INTRODUCTION TO IN.FORM
DESCRIPTION:Come learn about the Program that is changing peoples lives by helping them Regain their Health & Lose Weight too! 5:30-6:30 pm
URL:https://lisasnaturalpath.com/event/introduction-to-in-form/
END:VEVENT
BEGIN:VEVENT
DTSTART;VALUE=DATE:20161115
DTEND;VALUE=DATE:20161116
DTSTAMP:20260420T154958
CREATED:20161102T152610Z
LAST-MODIFIED:20161102T152610Z
UID:484-1479168000-1479254399@lisasnaturalpath.com
SUMMARY:THERMOGRAPHY DAY
DESCRIPTION:Three Rivers Thermography of Pittsburgh will be at our Center offering Digital Infrared Thermal Imaging (a non-invasive earlier detection of Breast cancer & more)\n*By Appointment
URL:https://lisasnaturalpath.com/event/thermography-day-2/
END:VEVENT
BEGIN:VEVENT
DTSTART;TZID=UTC:20161110T170000
DTEND;TZID=UTC:20161110T183000
DTSTAMP:20260420T154958
CREATED:20161102T152450Z
LAST-MODIFIED:20161102T152450Z
UID:480-1478797200-1478802600@lisasnaturalpath.com
SUMMARY:IN.FORM PROGRAM PARTICIPANTS CLASS
DESCRIPTION:5:00-5:30 Health Assessment/Measure; 5:30-6:30 Health Education Class\n* Guests may come to 1 class Free
URL:https://lisasnaturalpath.com/event/in-form-program-participants-class-4/
END:VEVENT
BEGIN:VEVENT
DTSTART;VALUE=DATE:20161108
DTEND;VALUE=DATE:20161109
DTSTAMP:20260420T154958
CREATED:20161102T152356Z
LAST-MODIFIED:20161102T152356Z
UID:478-1478563200-1478649599@lisasnaturalpath.com
SUMMARY:ELECTION DAY
DESCRIPTION:Don’t forget to vote!!!
URL:https://lisasnaturalpath.com/event/election-day/
END:VEVENT
BEGIN:VEVENT
DTSTART;TZID=UTC:20161103T170000
DTEND;TZID=UTC:20161103T183000
DTSTAMP:20260420T154958
CREATED:20161102T152256Z
LAST-MODIFIED:20161102T152256Z
UID:476-1478192400-1478197800@lisasnaturalpath.com
SUMMARY:IN.FORM PROGRAM PARTICIPANTS CLASS
DESCRIPTION:5:00-5:30 Health Assessment/Measure; 5:30-6:30 Health Education Class\n* Guests may come to 1 class Free
URL:https://lisasnaturalpath.com/event/in-form-program-participants-class-3/
END:VEVENT
BEGIN:VEVENT
DTSTART;TZID=UTC:20161027T170000
DTEND;TZID=UTC:20161027T183000
DTSTAMP:20260420T154958
CREATED:20161017T112058Z
LAST-MODIFIED:20161017T112058Z
UID:387-1477587600-1477593000@lisasnaturalpath.com
SUMMARY:IN.FORM PROGRAM PARTICIPANTS CLASS
DESCRIPTION:5:00-5:30 Health Assessment/Measure\n5:30-6:30 Health Education Class
URL:https://lisasnaturalpath.com/event/in-form-program-participants-class-2/
END:VEVENT
BEGIN:VEVENT
DTSTART;TZID=UTC:20161025T173000
DTEND;TZID=UTC:20161025T183000
DTSTAMP:20260420T154958
CREATED:20161019T195644Z
LAST-MODIFIED:20161019T195644Z
UID:446-1477416600-1477420200@lisasnaturalpath.com
SUMMARY:Herbal Hour-Has Life Got You "Singing the Blues?"
DESCRIPTION:Learn how to overcome depression using lifestyle changes\, nutritional supplements\, herbs and other natural methods in this month’s Herbal Hour \nSpeaker: Dr. Lisa Kellerman\, ND\, Traditional Naturopath \nPlease R.S.V.P. for a seat by Oct. 22  #724-284-9162 or lnpfrontdesk@lisasnaturalpath.com \n  \n 
URL:https://lisasnaturalpath.com/event/herbal-hour-has-life-got-you-singing-the-blues/
LOCATION:LISA’S NATURAL PATH\, 1779 North Main Street Extension\, Kerr Business Center\, Butler\, PA\, 16001\, United States
END:VEVENT
BEGIN:VEVENT
DTSTART;TZID=UTC:20161025T120000
DTEND;TZID=UTC:20161025T190000
DTSTAMP:20260420T154958
CREATED:20161017T111955Z
LAST-MODIFIED:20161017T111955Z
UID:385-1477396800-1477422000@lisasnaturalpath.com
SUMMARY:Customer Appreciation Day!!!
DESCRIPTION:SALE\, Specials\, Free Stuff\, & Health Talk \n5:30pm – Health Talk\, Topic: “Has Life got you “Singing the Blues ” Learn how to treat DEPRESSION the natural way. Speaker: Dr. Lisa Kellerman\, ND Naturopathic Doctor
URL:https://lisasnaturalpath.com/event/customer-appreciation-day/
END:VEVENT
BEGIN:VEVENT
DTSTART;TZID=UTC:20161020T170000
DTEND;TZID=UTC:20161020T183000
DTSTAMP:20260420T154958
CREATED:20161017T111848Z
LAST-MODIFIED:20161017T111848Z
UID:383-1476982800-1476988200@lisasnaturalpath.com
SUMMARY:IN.FORM PROGRAM PARTICIPANTS CLASS
DESCRIPTION:5:00-5:30 Health Assessment/Measure\n5:30-6:30 Health Education class
URL:https://lisasnaturalpath.com/event/in-form-program-participants-class/
END:VEVENT
BEGIN:VEVENT
DTSTART;TZID=UTC:20161018T180000
DTEND;TZID=UTC:20161018T190000
DTSTAMP:20260420T154958
CREATED:20161017T111728Z
LAST-MODIFIED:20161017T111728Z
UID:379-1476813600-1476817200@lisasnaturalpath.com
SUMMARY:Health Talk
DESCRIPTION:Topic: “The ABC’s of Good Health” St. John’s Reformed Church\, Evans City Road across from Agway\, Butler\, PA\nSpeaker: Dr. Lisa Kellerman\, ND\, Naturopathic Doctor
URL:https://lisasnaturalpath.com/event/health-talk/
LOCATION:St. John’s Reformed Church
END:VEVENT
BEGIN:VEVENT
DTSTART;TZID=UTC:20161018T120000
DTEND;TZID=UTC:20161018T190000
DTSTAMP:20260420T154958
CREATED:20161017T111515Z
LAST-MODIFIED:20161017T111515Z
UID:377-1476792000-1476817200@lisasnaturalpath.com
SUMMARY:Thermography Day
DESCRIPTION:12-7pm Three Rivers Thermography of Pittsburgh will be at our Center offering Digital Infrared\nThermal Imaging (a non-invasive earlier detection of Breast cancer & more) \n*By Appointment
URL:https://lisasnaturalpath.com/event/thermography-day/
END:VEVENT
END:VCALENDAR