BEGIN:VCALENDAR
VERSION:2.0
PRODID:-//Lisa&#039;s Natural Path, Herb Shop &amp; Wellness Center - ECPv6.15.20//NONSGML v1.0//EN
CALSCALE:GREGORIAN
METHOD:PUBLISH
X-WR-CALNAME:Lisa&#039;s Natural Path, Herb Shop &amp; Wellness Center
X-ORIGINAL-URL:https://lisasnaturalpath.com
X-WR-CALDESC:Events for Lisa&#039;s Natural Path, Herb Shop &amp; Wellness Center
REFRESH-INTERVAL;VALUE=DURATION:PT1H
X-Robots-Tag:noindex
X-PUBLISHED-TTL:PT1H
BEGIN:VTIMEZONE
TZID:UTC
BEGIN:STANDARD
TZOFFSETFROM:+0000
TZOFFSETTO:+0000
TZNAME:UTC
DTSTART:20150101T000000
END:STANDARD
END:VTIMEZONE
BEGIN:VEVENT
DTSTART;TZID=UTC:20170112T173000
DTEND;TZID=UTC:20170112T183000
DTSTAMP:20260420T125345
CREATED:20170102T153811Z
LAST-MODIFIED:20170102T153915Z
UID:550-1484242200-1484245800@lisasnaturalpath.com
SUMMARY:Inform Health Class
DESCRIPTION:Inform Health Classes – Every Thursday
URL:https://lisasnaturalpath.com/event/inform-health-class-2/
END:VEVENT
BEGIN:VEVENT
DTSTART;TZID=UTC:20170110T120000
DTEND;TZID=UTC:20170110T190000
DTSTAMP:20260420T125345
CREATED:20170102T154447Z
LAST-MODIFIED:20170102T154447Z
UID:563-1484049600-1484074800@lisasnaturalpath.com
SUMMARY:Thermography Day
DESCRIPTION:Thermography Day
URL:https://lisasnaturalpath.com/event/thermography-day-3/
END:VEVENT
BEGIN:VEVENT
DTSTART;TZID=UTC:20170105T173000
DTEND;TZID=UTC:20170105T183000
DTSTAMP:20260420T125345
CREATED:20170102T153657Z
LAST-MODIFIED:20170102T153928Z
UID:548-1483637400-1483641000@lisasnaturalpath.com
SUMMARY:Inform Health Class
DESCRIPTION:Inform Health Classes – Every Thursday
URL:https://lisasnaturalpath.com/event/inform-health-class/
END:VEVENT
BEGIN:VEVENT
DTSTART;TZID=UTC:20161229T173000
DTEND;TZID=UTC:20161229T183000
DTSTAMP:20260420T125345
CREATED:20161129T122400Z
LAST-MODIFIED:20161129T122400Z
UID:536-1483032600-1483036200@lisasnaturalpath.com
SUMMARY:IN.FORM Health Class
DESCRIPTION:IN.FORM Health Class
URL:https://lisasnaturalpath.com/event/form-health-class-4/
END:VEVENT
BEGIN:VEVENT
DTSTART;VALUE=DATE:20161227
DTEND;VALUE=DATE:20161228
DTSTAMP:20260420T125345
CREATED:20161225T231136Z
LAST-MODIFIED:20161225T231136Z
UID:546-1482796800-1482883199@lisasnaturalpath.com
SUMMARY:Inventory clearance sale 1 day only 25% off
DESCRIPTION:Inventory clearance sale 1 day only 25% off
URL:https://lisasnaturalpath.com/event/inventory-clearance-sale-1-day-only-25-off/
END:VEVENT
BEGIN:VEVENT
DTSTART;VALUE=DATE:20161226
DTEND;VALUE=DATE:20161227
DTSTAMP:20260420T125345
CREATED:20161129T122149Z
LAST-MODIFIED:20161129T122149Z
UID:534-1482710400-1482796799@lisasnaturalpath.com
SUMMARY:CLOSED
DESCRIPTION:CLOSED
URL:https://lisasnaturalpath.com/event/closed/
END:VEVENT
BEGIN:VEVENT
DTSTART;VALUE=DATE:20161225
DTEND;VALUE=DATE:20161226
DTSTAMP:20260420T125345
CREATED:20161129T122128Z
LAST-MODIFIED:20161129T122128Z
UID:532-1482624000-1482710399@lisasnaturalpath.com
SUMMARY:MERRY CHRISTMAS
DESCRIPTION:MERRY CHRISTMAS
URL:https://lisasnaturalpath.com/event/merry-christmas/
END:VEVENT
BEGIN:VEVENT
DTSTART;VALUE=DATE:20161222
DTEND;VALUE=DATE:20161223
DTSTAMP:20260420T125345
CREATED:20161129T122110Z
LAST-MODIFIED:20161129T122110Z
UID:530-1482364800-1482451199@lisasnaturalpath.com
SUMMARY:NO IN.FORM Health Class
DESCRIPTION:NO IN.FORM Health Class
URL:https://lisasnaturalpath.com/event/no-form-health-class/
END:VEVENT
BEGIN:VEVENT
DTSTART;VALUE=DATE:20161221
DTEND;VALUE=DATE:20161222
DTSTAMP:20260420T125345
CREATED:20161129T122040Z
LAST-MODIFIED:20161129T122040Z
UID:528-1482278400-1482364799@lisasnaturalpath.com
SUMMARY:First Day of Winter
DESCRIPTION:First Day of Winter
URL:https://lisasnaturalpath.com/event/first-day-winter/
END:VEVENT
BEGIN:VEVENT
DTSTART;TZID=UTC:20161220T120000
DTEND;TZID=UTC:20161220T190000
DTSTAMP:20260420T125345
CREATED:20161129T122017Z
LAST-MODIFIED:20161129T122017Z
UID:526-1482235200-1482260400@lisasnaturalpath.com
SUMMARY:CUSTOMER APPRECIATION DAY
DESCRIPTION:* Note it is 1 week earlier than usual and No Health Class
URL:https://lisasnaturalpath.com/event/customer-appreciation-day-2/
END:VEVENT
BEGIN:VEVENT
DTSTART;TZID=UTC:20161215T173000
DTEND;TZID=UTC:20161215T183000
DTSTAMP:20260420T125345
CREATED:20161129T121940Z
LAST-MODIFIED:20161129T121940Z
UID:524-1481823000-1481826600@lisasnaturalpath.com
SUMMARY:IN.FORM Health Class
DESCRIPTION:IN.FORM Health Class
URL:https://lisasnaturalpath.com/event/form-health-class-3/
END:VEVENT
BEGIN:VEVENT
DTSTART;TZID=UTC:20161213T173000
DTEND;TZID=UTC:20161213T183000
DTSTAMP:20260420T125345
CREATED:20161129T121908Z
LAST-MODIFIED:20161129T121908Z
UID:522-1481650200-1481653800@lisasnaturalpath.com
SUMMARY:Introduction to the IN.FORM Health Program
DESCRIPTION:Introduction to the IN.FORM Health Program
URL:https://lisasnaturalpath.com/event/introduction-form-health-program/
END:VEVENT
BEGIN:VEVENT
DTSTART;TZID=UTC:20161213T120000
DTEND;TZID=UTC:20161213T190000
DTSTAMP:20260420T125345
CREATED:20161129T121838Z
LAST-MODIFIED:20161129T121838Z
UID:520-1481630400-1481655600@lisasnaturalpath.com
SUMMARY:Thermography Scan Day
DESCRIPTION:Thermography Scan Day
URL:https://lisasnaturalpath.com/event/thermography-scan-day/
END:VEVENT
BEGIN:VEVENT
DTSTART;TZID=UTC:20161208T173000
DTEND;TZID=UTC:20161208T183000
DTSTAMP:20260420T125345
CREATED:20161129T121808Z
LAST-MODIFIED:20161129T121808Z
UID:518-1481218200-1481221800@lisasnaturalpath.com
SUMMARY:IN.FORM Health Class
DESCRIPTION:IN.FORM Health Class
URL:https://lisasnaturalpath.com/event/form-health-class-2/
END:VEVENT
BEGIN:VEVENT
DTSTART;VALUE=DATE:20161207
DTEND;VALUE=DATE:20161208
DTSTAMP:20260420T125345
CREATED:20161129T121736Z
LAST-MODIFIED:20161129T121736Z
UID:516-1481068800-1481155199@lisasnaturalpath.com
SUMMARY:Winter CSA Co-op Pick up starts
DESCRIPTION:Winter CSA Co-op Pick up starts
URL:https://lisasnaturalpath.com/event/winter-csa-co-op-pick-starts/
END:VEVENT
BEGIN:VEVENT
DTSTART;TZID=UTC:20161201T173000
DTEND;TZID=UTC:20161201T183000
DTSTAMP:20260420T125345
CREATED:20161129T121710Z
LAST-MODIFIED:20161129T121710Z
UID:514-1480613400-1480617000@lisasnaturalpath.com
SUMMARY:IN.FORM Health Class
DESCRIPTION:IN.FORM Health Class
URL:https://lisasnaturalpath.com/event/form-health-class/
END:VEVENT
BEGIN:VEVENT
DTSTART;TZID=UTC:20161129T120000
DTEND;TZID=UTC:20161129T190000
DTSTAMP:20260420T125345
CREATED:20161102T153017Z
LAST-MODIFIED:20161118T150102Z
UID:496-1480420800-1480446000@lisasnaturalpath.com
SUMMARY:Holiday Open house\, Sale & Vendor Show!!!
DESCRIPTION:Holiday Open House\, Sale & Vendor show – CLICK HERE FOR MORE DETAILS\n5:30 – Health Talk\,Topic: “Essential Oils\, more than just smell”
URL:https://lisasnaturalpath.com/event/holiday-open-house-sale-vendor-show/
END:VEVENT
BEGIN:VEVENT
DTSTART;VALUE=DATE:20161125
DTEND;VALUE=DATE:20161126
DTSTAMP:20260420T125345
CREATED:20161102T152848Z
LAST-MODIFIED:20161102T152848Z
UID:494-1480032000-1480118399@lisasnaturalpath.com
SUMMARY:WE ARE CLOSED!!!
DESCRIPTION:WE ARE CLOSED!!!
URL:https://lisasnaturalpath.com/event/we-are-closed/
END:VEVENT
BEGIN:VEVENT
DTSTART;VALUE=DATE:20161124
DTEND;VALUE=DATE:20161125
DTSTAMP:20260420T125345
CREATED:20161102T152829Z
LAST-MODIFIED:20161102T152829Z
UID:492-1479945600-1480031999@lisasnaturalpath.com
SUMMARY:HAPPY THANKSGIVING\, WE ARE CLOSED!!!
DESCRIPTION:HAPPY THANKSGIVING\, WE ARE CLOSED!!!
URL:https://lisasnaturalpath.com/event/happy-thanksgiving-we-are-closed/
END:VEVENT
BEGIN:VEVENT
DTSTART;TZID=UTC:20161122T180000
DTEND;TZID=UTC:20161122T190000
DTSTAMP:20260420T125345
CREATED:20161102T152752Z
LAST-MODIFIED:20161102T152752Z
UID:490-1479837600-1479841200@lisasnaturalpath.com
SUMMARY:HERBAL HOUR
DESCRIPTION:Topic: Natural Remedies for Colds & Flus\n6:00 – 7:00 pm. St. John’s Reformed Church meeting room downstairs across from Agway on Rt. 68 west of Butler
URL:https://lisasnaturalpath.com/event/herbal-hour/
END:VEVENT
BEGIN:VEVENT
DTSTART;VALUE=DATE:20161120
DTEND;VALUE=DATE:20161121
DTSTAMP:20260420T125345
CREATED:20161102T152720Z
LAST-MODIFIED:20161102T152720Z
UID:488-1479600000-1479686399@lisasnaturalpath.com
SUMMARY:DR. LISA'S BIRTHDAY
DESCRIPTION:
URL:https://lisasnaturalpath.com/event/dr-lisas-birthday/
END:VEVENT
BEGIN:VEVENT
DTSTART;TZID=UTC:20161117T170000
DTEND;TZID=UTC:20161117T183000
DTSTAMP:20260420T125345
CREATED:20161102T152701Z
LAST-MODIFIED:20161102T152701Z
UID:486-1479402000-1479407400@lisasnaturalpath.com
SUMMARY:IN.FORM PROGRAM PARTICIPANTS CLASS
DESCRIPTION:5:00-5:30 Health Assessment/Measure; 5:30-6:30 Health Education Class\n* Guests may come to 1 class Free
URL:https://lisasnaturalpath.com/event/in-form-program-participants-class-5/
END:VEVENT
BEGIN:VEVENT
DTSTART;TZID=UTC:20161115T173000
DTEND;TZID=UTC:20161115T183000
DTSTAMP:20260420T125345
CREATED:20161102T152530Z
LAST-MODIFIED:20161102T152530Z
UID:482-1479231000-1479234600@lisasnaturalpath.com
SUMMARY:INTRODUCTION TO IN.FORM
DESCRIPTION:Come learn about the Program that is changing peoples lives by helping them Regain their Health & Lose Weight too! 5:30-6:30 pm
URL:https://lisasnaturalpath.com/event/introduction-to-in-form/
END:VEVENT
BEGIN:VEVENT
DTSTART;VALUE=DATE:20161115
DTEND;VALUE=DATE:20161116
DTSTAMP:20260420T125345
CREATED:20161102T152610Z
LAST-MODIFIED:20161102T152610Z
UID:484-1479168000-1479254399@lisasnaturalpath.com
SUMMARY:THERMOGRAPHY DAY
DESCRIPTION:Three Rivers Thermography of Pittsburgh will be at our Center offering Digital Infrared Thermal Imaging (a non-invasive earlier detection of Breast cancer & more)\n*By Appointment
URL:https://lisasnaturalpath.com/event/thermography-day-2/
END:VEVENT
BEGIN:VEVENT
DTSTART;TZID=UTC:20161110T170000
DTEND;TZID=UTC:20161110T183000
DTSTAMP:20260420T125345
CREATED:20161102T152450Z
LAST-MODIFIED:20161102T152450Z
UID:480-1478797200-1478802600@lisasnaturalpath.com
SUMMARY:IN.FORM PROGRAM PARTICIPANTS CLASS
DESCRIPTION:5:00-5:30 Health Assessment/Measure; 5:30-6:30 Health Education Class\n* Guests may come to 1 class Free
URL:https://lisasnaturalpath.com/event/in-form-program-participants-class-4/
END:VEVENT
BEGIN:VEVENT
DTSTART;VALUE=DATE:20161108
DTEND;VALUE=DATE:20161109
DTSTAMP:20260420T125345
CREATED:20161102T152356Z
LAST-MODIFIED:20161102T152356Z
UID:478-1478563200-1478649599@lisasnaturalpath.com
SUMMARY:ELECTION DAY
DESCRIPTION:Don’t forget to vote!!!
URL:https://lisasnaturalpath.com/event/election-day/
END:VEVENT
BEGIN:VEVENT
DTSTART;TZID=UTC:20161103T170000
DTEND;TZID=UTC:20161103T183000
DTSTAMP:20260420T125345
CREATED:20161102T152256Z
LAST-MODIFIED:20161102T152256Z
UID:476-1478192400-1478197800@lisasnaturalpath.com
SUMMARY:IN.FORM PROGRAM PARTICIPANTS CLASS
DESCRIPTION:5:00-5:30 Health Assessment/Measure; 5:30-6:30 Health Education Class\n* Guests may come to 1 class Free
URL:https://lisasnaturalpath.com/event/in-form-program-participants-class-3/
END:VEVENT
BEGIN:VEVENT
DTSTART;TZID=UTC:20161027T170000
DTEND;TZID=UTC:20161027T183000
DTSTAMP:20260420T125345
CREATED:20161017T112058Z
LAST-MODIFIED:20161017T112058Z
UID:387-1477587600-1477593000@lisasnaturalpath.com
SUMMARY:IN.FORM PROGRAM PARTICIPANTS CLASS
DESCRIPTION:5:00-5:30 Health Assessment/Measure\n5:30-6:30 Health Education Class
URL:https://lisasnaturalpath.com/event/in-form-program-participants-class-2/
END:VEVENT
BEGIN:VEVENT
DTSTART;TZID=UTC:20161025T173000
DTEND;TZID=UTC:20161025T183000
DTSTAMP:20260420T125345
CREATED:20161019T195644Z
LAST-MODIFIED:20161019T195644Z
UID:446-1477416600-1477420200@lisasnaturalpath.com
SUMMARY:Herbal Hour-Has Life Got You "Singing the Blues?"
DESCRIPTION:Learn how to overcome depression using lifestyle changes\, nutritional supplements\, herbs and other natural methods in this month’s Herbal Hour \nSpeaker: Dr. Lisa Kellerman\, ND\, Traditional Naturopath \nPlease R.S.V.P. for a seat by Oct. 22  #724-284-9162 or lnpfrontdesk@lisasnaturalpath.com \n  \n 
URL:https://lisasnaturalpath.com/event/herbal-hour-has-life-got-you-singing-the-blues/
LOCATION:LISA’S NATURAL PATH\, 1779 North Main Street Extension\, Kerr Business Center\, Butler\, PA\, 16001\, United States
END:VEVENT
BEGIN:VEVENT
DTSTART;TZID=UTC:20161025T120000
DTEND;TZID=UTC:20161025T190000
DTSTAMP:20260420T125346
CREATED:20161017T111955Z
LAST-MODIFIED:20161017T111955Z
UID:385-1477396800-1477422000@lisasnaturalpath.com
SUMMARY:Customer Appreciation Day!!!
DESCRIPTION:SALE\, Specials\, Free Stuff\, & Health Talk \n5:30pm – Health Talk\, Topic: “Has Life got you “Singing the Blues ” Learn how to treat DEPRESSION the natural way. Speaker: Dr. Lisa Kellerman\, ND Naturopathic Doctor
URL:https://lisasnaturalpath.com/event/customer-appreciation-day/
END:VEVENT
END:VCALENDAR